BEGIN:VCALENDAR
VERSION:2.0
PRODID:-//STAR 101.5 - ECPv6.15.20//NONSGML v1.0//EN
CALSCALE:GREGORIAN
METHOD:PUBLISH
X-WR-CALNAME:STAR 101.5
X-ORIGINAL-URL:https://star1015denver.com
X-WR-CALDESC:Events for STAR 101.5
REFRESH-INTERVAL;VALUE=DURATION:PT1H
X-Robots-Tag:noindex
X-PUBLISHED-TTL:PT1H
BEGIN:VTIMEZONE
TZID:America/Denver
BEGIN:DAYLIGHT
TZOFFSETFROM:-0700
TZOFFSETTO:-0600
TZNAME:MDT
DTSTART:20250309T090000
END:DAYLIGHT
BEGIN:STANDARD
TZOFFSETFROM:-0600
TZOFFSETTO:-0700
TZNAME:MST
DTSTART:20251102T080000
END:STANDARD
BEGIN:DAYLIGHT
TZOFFSETFROM:-0700
TZOFFSETTO:-0600
TZNAME:MDT
DTSTART:20260308T090000
END:DAYLIGHT
BEGIN:STANDARD
TZOFFSETFROM:-0600
TZOFFSETTO:-0700
TZNAME:MST
DTSTART:20261101T080000
END:STANDARD
BEGIN:DAYLIGHT
TZOFFSETFROM:-0700
TZOFFSETTO:-0600
TZNAME:MDT
DTSTART:20270314T090000
END:DAYLIGHT
BEGIN:STANDARD
TZOFFSETFROM:-0600
TZOFFSETTO:-0700
TZNAME:MST
DTSTART:20271107T080000
END:STANDARD
END:VTIMEZONE
BEGIN:VEVENT
DTSTART;TZID=America/Denver:20260424T183000
DTEND;TZID=America/Denver:20260425T163000
DTSTAMP:20260419T184434
CREATED:20260305T195051Z
LAST-MODIFIED:20260305T195052Z
UID:10000113-1777055400-1777134600@star1015denver.com
SUMMARY:Ignite Colorado - Life on Purpose Conference
DESCRIPTION:Join us for a unique two-day event that will inspire and equip you as an effective every day\, everywhere 24/7 Kingdom Laborer! \n\n\n\nThe core of God’s master plan is His equal-opportunity-employment plan for ALL Kingdom laborers to lead high-impact everyday lives—ordinary people doing extraordinary things— forging forward the beauty\, goodness\, love\, grace\, power\, and freedom of His Kingdom in their everyday life of influence. \n\n\n\nWhat you will walk away with: \n\n\n\n\nAn understanding of how God has commissioned you to impact others in your everyday life and a personalized “unique ministry” plan with next steps.\n\n\n\nPractical\, approachable\, and effective ways to share the good news of Jesus with those who don’t know him yet.\n\n\n\nForge Resources & practical ways to uniquely engage others\, love in action\, share God-stories\, and participate in an ongoing movement of disciple-making!\n\n\n\nGrowing bonds with others in your congregation as you link arms together to advance God’s Kingdom.
URL:https://star1015denver.com/event/ignite-colorado-life-on-purpose-conference/
LOCATION:Calvary Boulder Valley\, 255 Majestic View Dr\, Boulder\, Colorado\, 80303\, United States
CATEGORIES:featured
ATTACH;FMTTYPE=image/png:https://star1015denver.com/wp-content/uploads/2026/03/Screenshot-2026-03-02-124301.png
END:VEVENT
END:VCALENDAR